BEGIN:VCALENDAR
VERSION:2.0
PRODID:-//eventon.com NONSGML v1.0//EN
CALSCALE:GREGORIAN
METHOD:PUBLISH
BEGIN:VEVENT
UID:69e5ca5589404
DTSTAMP:20260420T064021Z
DTSTART:20260516T233900Z
DTEND:20260516T233900Z
LOCATION:
SUMMARY:2026 SA State Annual Meeting
DESCRIPTION:\nhttps://www.rpsbs.com.au/events/2026-sa-state-annual-meeting/
URL:https://www.rpsbs.com.au/events/2026-sa-state-annual-meeting/
END:VEVENT
END:VCALENDAR